BEGIN:VCALENDAR
VERSION:2.0
PRODID:-//Aidshilfe Bochum e.V. - ECPv5.0.1//NONSGML v1.0//EN
CALSCALE:GREGORIAN
METHOD:PUBLISH
X-WR-CALNAME:Aidshilfe Bochum e.V.
X-ORIGINAL-URL:http://aidshilfe-bochum.de
X-WR-CALDESC:Veranstaltungen im Aidshilfe Bochum e.V.
BEGIN:VTIMEZONE
TZID:Europe/Berlin
BEGIN:DAYLIGHT
TZOFFSETFROM:+0100
TZOFFSETTO:+0200
TZNAME:CEST
DTSTART:20220327T010000
END:DAYLIGHT
BEGIN:STANDARD
TZOFFSETFROM:+0200
TZOFFSETTO:+0100
TZNAME:CET
DTSTART:20221030T010000
END:STANDARD
END:VTIMEZONE
BEGIN:VEVENT
DTSTART;TZID=Europe/Berlin:20220806T093000
DTEND;TZID=Europe/Berlin:20220806T093000
DTSTAMP:20260421T050311
CREATED:20220726T100633Z
LAST-MODIFIED:20220726T124559Z
UID:4147-1659778200-1659778200@aidshilfe-bochum.de
SUMMARY:"OVER THE RAINBOW" - Frühstücksbrunch von der Selbsthilfe "PositHIV im Pott"
DESCRIPTION:Lust auf gesundes\, leckeres Essen in geselliger Runde? Dann sei dabei am 6.8. ab 9.30 Uhr bei unserem nächsten Brunch für Menschen mit HIV und Zugehörige. \nWir haben diesmal das Motto &#8222;over the rainbow&#8220;. Es wird ein reichliches\, ausgewogenes und buntes Angebot an Speisen geben. \nDu hast Interesse\, dann melde dich bei uns bis zum 3.8. an: kontakt@posithivimpott.de \n
URL:http://aidshilfe-bochum.de/veranstaltung/over-the-rainbow-fruehstuecksbrunch-von-der-selbsthilfe-posithiv-im-pott/
ATTACH;FMTTYPE=image/jpeg:http://aidshilfe-bochum.de/wp-content/uploads/2022/07/photocollage_2022712121847341.jpg
ORGANIZER;CN="Aidshilfe%20Bochum":MAILTO:info@bochum.aidshilfe.de
END:VEVENT
END:VCALENDAR